BEGIN:VCALENDAR
VERSION:2.0
PRODID:-//6 Pastures - ECPv6.15.14//NONSGML v1.0//EN
CALSCALE:GREGORIAN
METHOD:PUBLISH
X-ORIGINAL-URL:https://6pastures.com
X-WR-CALDESC:Events for 6 Pastures
REFRESH-INTERVAL;VALUE=DURATION:PT1H
X-Robots-Tag:noindex
X-PUBLISHED-TTL:PT1H
BEGIN:VTIMEZONE
TZID:America/New_York
BEGIN:DAYLIGHT
TZOFFSETFROM:-0500
TZOFFSETTO:-0400
TZNAME:EDT
DTSTART:20250309T070000
END:DAYLIGHT
BEGIN:STANDARD
TZOFFSETFROM:-0400
TZOFFSETTO:-0500
TZNAME:EST
DTSTART:20251102T060000
END:STANDARD
BEGIN:DAYLIGHT
TZOFFSETFROM:-0500
TZOFFSETTO:-0400
TZNAME:EDT
DTSTART:20260308T070000
END:DAYLIGHT
BEGIN:STANDARD
TZOFFSETFROM:-0400
TZOFFSETTO:-0500
TZNAME:EST
DTSTART:20261101T060000
END:STANDARD
BEGIN:DAYLIGHT
TZOFFSETFROM:-0500
TZOFFSETTO:-0400
TZNAME:EDT
DTSTART:20270314T070000
END:DAYLIGHT
BEGIN:STANDARD
TZOFFSETFROM:-0400
TZOFFSETTO:-0500
TZNAME:EST
DTSTART:20271107T060000
END:STANDARD
BEGIN:DAYLIGHT
TZOFFSETFROM:-0500
TZOFFSETTO:-0400
TZNAME:EDT
DTSTART:20280312T070000
END:DAYLIGHT
BEGIN:STANDARD
TZOFFSETFROM:-0400
TZOFFSETTO:-0500
TZNAME:EST
DTSTART:20281105T060000
END:STANDARD
END:VTIMEZONE
BEGIN:VEVENT
DTSTART;TZID=America/New_York:20260829T000000
DTEND;TZID=America/New_York:20260829T235959
DTSTAMP:20260422T055736
CREATED:20240129T204210Z
LAST-MODIFIED:20240409T164911Z
UID:10000646-1787961600-1788047999@6pastures.com
SUMMARY:AVAILABLE
DESCRIPTION:
URL:https://6pastures.com/event/available-54/
CATEGORIES:2026,Available
END:VEVENT
BEGIN:VEVENT
DTSTART;TZID=America/New_York:20260905T000000
DTEND;TZID=America/New_York:20260905T235959
DTSTAMP:20260422T055736
CREATED:20240129T204243Z
LAST-MODIFIED:20240409T164924Z
UID:10000647-1788566400-1788652799@6pastures.com
SUMMARY:AVAILABLE
DESCRIPTION:
URL:https://6pastures.com/event/available-55/
CATEGORIES:2026,Available
END:VEVENT
BEGIN:VEVENT
DTSTART;TZID=America/New_York:20260912T000000
DTEND;TZID=America/New_York:20260912T235959
DTSTAMP:20260422T055736
CREATED:20240129T204314Z
LAST-MODIFIED:20240409T165005Z
UID:10000648-1789171200-1789257599@6pastures.com
SUMMARY:AVAILABLE
DESCRIPTION:
URL:https://6pastures.com/event/available-56/
CATEGORIES:2026,Available
END:VEVENT
BEGIN:VEVENT
DTSTART;TZID=America/New_York:20260919T000000
DTEND;TZID=America/New_York:20260919T235959
DTSTAMP:20260422T055736
CREATED:20240129T204336Z
LAST-MODIFIED:20250902T150350Z
UID:10000649-1789776000-1789862399@6pastures.com
SUMMARY:Morgan & Myles Wedding
DESCRIPTION:
URL:https://6pastures.com/event/available-57/
LOCATION:Flying Pig Barn
CATEGORIES:2026,Wedding
END:VEVENT
BEGIN:VEVENT
DTSTART;TZID=America/New_York:20260926T000000
DTEND;TZID=America/New_York:20260926T235959
DTSTAMP:20260422T055736
CREATED:20240129T204407Z
LAST-MODIFIED:20250829T202621Z
UID:10000650-1790380800-1790467199@6pastures.com
SUMMARY:Private Event
DESCRIPTION:
URL:https://6pastures.com/event/available-58/
CATEGORIES:2026,Party
END:VEVENT
BEGIN:VEVENT
DTSTART;TZID=America/New_York:20261003T000000
DTEND;TZID=America/New_York:20261003T235959
DTSTAMP:20260422T055736
CREATED:20240129T204440Z
LAST-MODIFIED:20250902T150514Z
UID:10000651-1790985600-1791071999@6pastures.com
SUMMARY:Private Event
DESCRIPTION:
URL:https://6pastures.com/event/available-59/
CATEGORIES:2026,Wedding
END:VEVENT
BEGIN:VEVENT
DTSTART;TZID=America/New_York:20261010T000000
DTEND;TZID=America/New_York:20261010T235959
DTSTAMP:20260422T055736
CREATED:20240129T204503Z
LAST-MODIFIED:20250702T154518Z
UID:10000652-1791590400-1791676799@6pastures.com
SUMMARY:Christopher & Sheila Wedding
DESCRIPTION:
URL:https://6pastures.com/event/available-60/
LOCATION:Flying Pig Barn
CATEGORIES:2026,Wedding
END:VEVENT
BEGIN:VEVENT
DTSTART;TZID=America/New_York:20261017T000000
DTEND;TZID=America/New_York:20261017T235959
DTSTAMP:20260422T055736
CREATED:20240129T204526Z
LAST-MODIFIED:20251106T172349Z
UID:10000653-1792195200-1792281599@6pastures.com
SUMMARY:Katy & Joey Wedding
DESCRIPTION:
URL:https://6pastures.com/event/available-61/
LOCATION:Flying Pig Barn
CATEGORIES:2026,Wedding
END:VEVENT
BEGIN:VEVENT
DTSTART;TZID=America/New_York:20261024T000000
DTEND;TZID=America/New_York:20261024T235959
DTSTAMP:20260422T055736
CREATED:20240129T204548Z
LAST-MODIFIED:20241010T145848Z
UID:10000654-1792800000-1792886399@6pastures.com
SUMMARY:Sydnee & Dimitri Wedding
DESCRIPTION:
URL:https://6pastures.com/event/available-62/
LOCATION:Flying Pig Barn
CATEGORIES:2026,Wedding
END:VEVENT
BEGIN:VEVENT
DTSTART;TZID=America/New_York:20261031T000000
DTEND;TZID=America/New_York:20261031T235959
DTSTAMP:20260422T055736
CREATED:20240129T204612Z
LAST-MODIFIED:20250604T172034Z
UID:10000655-1793404800-1793491199@6pastures.com
SUMMARY:Taylor & Kevin Wedding
DESCRIPTION:
URL:https://6pastures.com/event/available-63/
LOCATION:Flying Pig Barn
CATEGORIES:2026,Wedding
END:VEVENT
BEGIN:VEVENT
DTSTART;TZID=America/New_York:20261107T000000
DTEND;TZID=America/New_York:20261107T235959
DTSTAMP:20260422T055736
CREATED:20260105T162525Z
LAST-MODIFIED:20260105T162626Z
UID:10000662-1794009600-1794095999@6pastures.com
SUMMARY:PTO Gala
DESCRIPTION:
URL:https://6pastures.com/event/pto-gala-2/
LOCATION:Flying Pig Barn
CATEGORIES:2026,Party
END:VEVENT
BEGIN:VEVENT
DTSTART;TZID=America/New_York:20270424T000000
DTEND;TZID=America/New_York:20270424T235959
DTSTAMP:20260422T055736
CREATED:20260115T172846Z
LAST-MODIFIED:20260115T172847Z
UID:10000663-1808524800-1808611199@6pastures.com
SUMMARY:AVAILABLE
DESCRIPTION:
URL:https://6pastures.com/event/available-21/
CATEGORIES:2027,Available
END:VEVENT
BEGIN:VEVENT
DTSTART;TZID=America/New_York:20270508T000000
DTEND;TZID=America/New_York:20270508T235959
DTSTAMP:20260422T055736
CREATED:20260115T165437Z
LAST-MODIFIED:20260115T165438Z
UID:10000664-1809734400-1809820799@6pastures.com
SUMMARY:AVAILABLE
DESCRIPTION:
URL:https://6pastures.com/event/available-25/
CATEGORIES:2027,Available
END:VEVENT
BEGIN:VEVENT
DTSTART;TZID=America/New_York:20270515T000000
DTEND;TZID=America/New_York:20270515T235959
DTSTAMP:20260422T055736
CREATED:20260115T165512Z
LAST-MODIFIED:20260115T165514Z
UID:10000665-1810339200-1810425599@6pastures.com
SUMMARY:AVAILABLE
DESCRIPTION:
URL:https://6pastures.com/event/available-26/
CATEGORIES:2027,Available
END:VEVENT
BEGIN:VEVENT
DTSTART;TZID=America/New_York:20270522T000000
DTEND;TZID=America/New_York:20270522T235959
DTSTAMP:20260422T055736
CREATED:20260115T165549Z
LAST-MODIFIED:20260115T165550Z
UID:10000666-1810944000-1811030399@6pastures.com
SUMMARY:AVAILABLE
DESCRIPTION:
URL:https://6pastures.com/event/available-28/
CATEGORIES:2027,Available
END:VEVENT
BEGIN:VEVENT
DTSTART;TZID=America/New_York:20270529T000000
DTEND;TZID=America/New_York:20270529T235959
DTSTAMP:20260422T055736
CREATED:20260115T165718Z
LAST-MODIFIED:20260115T165719Z
UID:10000667-1811548800-1811635199@6pastures.com
SUMMARY:AVAILABLE
DESCRIPTION:
URL:https://6pastures.com/event/available-42/
CATEGORIES:2027,Available
END:VEVENT
BEGIN:VEVENT
DTSTART;TZID=America/New_York:20270605T000000
DTEND;TZID=America/New_York:20270605T235959
DTSTAMP:20260422T055736
CREATED:20260115T165748Z
LAST-MODIFIED:20260115T165749Z
UID:10000668-1812153600-1812239999@6pastures.com
SUMMARY:AVAILABLE
DESCRIPTION:
URL:https://6pastures.com/event/available-45/
CATEGORIES:2027,Available
END:VEVENT
BEGIN:VEVENT
DTSTART;TZID=America/New_York:20270612T000000
DTEND;TZID=America/New_York:20270612T235959
DTSTAMP:20260422T055736
CREATED:20260115T165818Z
LAST-MODIFIED:20260115T165819Z
UID:10000669-1812758400-1812844799@6pastures.com
SUMMARY:AVAILABLE
DESCRIPTION:
URL:https://6pastures.com/event/available-64/
CATEGORIES:2027,Available
END:VEVENT
BEGIN:VEVENT
DTSTART;TZID=America/New_York:20270619T000000
DTEND;TZID=America/New_York:20270619T235959
DTSTAMP:20260422T055736
CREATED:20260115T165839Z
LAST-MODIFIED:20260115T165841Z
UID:10000670-1813363200-1813449599@6pastures.com
SUMMARY:AVAILABLE
DESCRIPTION:
URL:https://6pastures.com/event/available-65/
CATEGORIES:2027,Available
END:VEVENT
BEGIN:VEVENT
DTSTART;TZID=America/New_York:20270626T000000
DTEND;TZID=America/New_York:20270626T235959
DTSTAMP:20260422T055736
CREATED:20260115T165901Z
LAST-MODIFIED:20260115T165902Z
UID:10000671-1813968000-1814054399@6pastures.com
SUMMARY:AVAILABLE
DESCRIPTION:
URL:https://6pastures.com/event/available-66/
CATEGORIES:2027,Available
END:VEVENT
BEGIN:VEVENT
DTSTART;TZID=America/New_York:20270828T000000
DTEND;TZID=America/New_York:20270828T235959
DTSTAMP:20260422T055736
CREATED:20260115T165945Z
LAST-MODIFIED:20260115T165946Z
UID:10000672-1819411200-1819497599@6pastures.com
SUMMARY:AVAILABLE
DESCRIPTION:
URL:https://6pastures.com/event/available-67/
CATEGORIES:2027,Available
END:VEVENT
BEGIN:VEVENT
DTSTART;TZID=America/New_York:20270904T000000
DTEND;TZID=America/New_York:20270904T235959
DTSTAMP:20260422T055736
CREATED:20260115T170139Z
LAST-MODIFIED:20260115T170140Z
UID:10000676-1820016000-1820102399@6pastures.com
SUMMARY:AVAILABLE
DESCRIPTION:
URL:https://6pastures.com/event/available-68/
CATEGORIES:2027,Available
END:VEVENT
BEGIN:VEVENT
DTSTART;TZID=America/New_York:20270911T000000
DTEND;TZID=America/New_York:20270911T235959
DTSTAMP:20260422T055736
CREATED:20260115T170147Z
LAST-MODIFIED:20260115T170148Z
UID:10000675-1820620800-1820707199@6pastures.com
SUMMARY:AVAILABLE
DESCRIPTION:
URL:https://6pastures.com/event/available-69/
CATEGORIES:2027,Available
END:VEVENT
BEGIN:VEVENT
DTSTART;TZID=America/New_York:20270918T000000
DTEND;TZID=America/New_York:20270918T235959
DTSTAMP:20260422T055736
CREATED:20260115T170157Z
LAST-MODIFIED:20260115T170158Z
UID:10000674-1821225600-1821311999@6pastures.com
SUMMARY:AVAILABLE
DESCRIPTION:
URL:https://6pastures.com/event/available-70/
CATEGORIES:2027,Available
END:VEVENT
BEGIN:VEVENT
DTSTART;TZID=America/New_York:20270925T000000
DTEND;TZID=America/New_York:20270925T235959
DTSTAMP:20260422T055736
CREATED:20260115T170244Z
LAST-MODIFIED:20260115T170319Z
UID:10000673-1821830400-1821916799@6pastures.com
SUMMARY:Grace & Aaron Wedding
DESCRIPTION:
URL:https://6pastures.com/event/grace-aaron-wedding/
LOCATION:Flying Pig Barn
CATEGORIES:2027,Wedding
END:VEVENT
BEGIN:VEVENT
DTSTART;TZID=America/New_York:20271009T000000
DTEND;TZID=America/New_York:20271009T235959
DTSTAMP:20260422T055736
CREATED:20260115T170405Z
LAST-MODIFIED:20260115T170406Z
UID:10000680-1823040000-1823126399@6pastures.com
SUMMARY:AVAILABLE
DESCRIPTION:
URL:https://6pastures.com/event/available-71/
CATEGORIES:2027,Available
END:VEVENT
BEGIN:VEVENT
DTSTART;TZID=America/New_York:20271016T000000
DTEND;TZID=America/New_York:20271016T235959
DTSTAMP:20260422T055736
CREATED:20260115T170412Z
LAST-MODIFIED:20260115T170413Z
UID:10000679-1823644800-1823731199@6pastures.com
SUMMARY:AVAILABLE
DESCRIPTION:
URL:https://6pastures.com/event/available-72/
CATEGORIES:2027,Available
END:VEVENT
BEGIN:VEVENT
DTSTART;TZID=America/New_York:20271023T000000
DTEND;TZID=America/New_York:20271023T235959
DTSTAMP:20260422T055736
CREATED:20260115T170419Z
LAST-MODIFIED:20260115T170420Z
UID:10000678-1824249600-1824335999@6pastures.com
SUMMARY:AVAILABLE
DESCRIPTION:
URL:https://6pastures.com/event/available-73/
CATEGORIES:2027,Available
END:VEVENT
BEGIN:VEVENT
DTSTART;TZID=America/New_York:20271030T000000
DTEND;TZID=America/New_York:20271030T235959
DTSTAMP:20260422T055736
CREATED:20260115T170425Z
LAST-MODIFIED:20260115T170426Z
UID:10000677-1824854400-1824940799@6pastures.com
SUMMARY:AVAILABLE
DESCRIPTION:
URL:https://6pastures.com/event/available-74/
CATEGORIES:2027,Available
END:VEVENT
END:VCALENDAR